BEGIN:VCALENDAR
VERSION:2.0
PRODID:-//LA Guestlist - ECPv6.15.20//NONSGML v1.0//EN
CALSCALE:GREGORIAN
METHOD:PUBLISH
X-WR-CALNAME:LA Guestlist
X-ORIGINAL-URL:https://laguestlist.com
X-WR-CALDESC:Events for LA Guestlist
REFRESH-INTERVAL;VALUE=DURATION:PT1H
X-Robots-Tag:noindex
X-PUBLISHED-TTL:PT1H
BEGIN:VTIMEZONE
TZID:America/Los_Angeles
BEGIN:DAYLIGHT
TZOFFSETFROM:-0800
TZOFFSETTO:-0700
TZNAME:PDT
DTSTART:20250309T100000
END:DAYLIGHT
BEGIN:STANDARD
TZOFFSETFROM:-0700
TZOFFSETTO:-0800
TZNAME:PST
DTSTART:20251102T090000
END:STANDARD
BEGIN:DAYLIGHT
TZOFFSETFROM:-0800
TZOFFSETTO:-0700
TZNAME:PDT
DTSTART:20260308T100000
END:DAYLIGHT
BEGIN:STANDARD
TZOFFSETFROM:-0700
TZOFFSETTO:-0800
TZNAME:PST
DTSTART:20261101T090000
END:STANDARD
BEGIN:DAYLIGHT
TZOFFSETFROM:-0800
TZOFFSETTO:-0700
TZNAME:PDT
DTSTART:20270314T100000
END:DAYLIGHT
BEGIN:STANDARD
TZOFFSETFROM:-0700
TZOFFSETTO:-0800
TZNAME:PST
DTSTART:20271107T090000
END:STANDARD
END:VTIMEZONE
BEGIN:VEVENT
DTSTART;TZID=America/Los_Angeles:20260130T190000
DTEND;TZID=America/Los_Angeles:20260130T220000
DTSTAMP:20260423T212159
CREATED:20251218T185250Z
LAST-MODIFIED:20251218T185250Z
UID:51748-1769799600-1769810400@laguestlist.com
SUMMARY:MusiCares 2026 Person of the Year
DESCRIPTION:Invite Only – The MusiCares Person of the Year Benefit Gala centers around a concert featuring renowned musicians and other artists playing tribute to the gala’s honoree. Mariah Carey joins an impressive list of recent MusiCares honorees\, including The Grateful Dead\, Jon Bon Jovi\, Berry Gordy and Smokey Robinson\, and Joni Mitchell.
URL:https://laguestlist.com/event/musicares-2026-person-of-the-year/
LOCATION:Los Angeles Convention Center\, 1201 S Figueroa St\, Los Angeles\, CA\, 90015\, United States
CATEGORIES:Charity,Music
ATTACH;FMTTYPE=image/png:https://laguestlist.com/wp-content/uploads/2025/12/unnamed-1.png
END:VEVENT
BEGIN:VEVENT
DTSTART;TZID=America/Los_Angeles:20260507T170000
DTEND;TZID=America/Los_Angeles:20260507T220000
DTSTAMP:20260423T212159
CREATED:20260424T005308Z
LAST-MODIFIED:20260424T005308Z
UID:52368-1778173200-1778191200@laguestlist.com
SUMMARY:The Bungalow: Palisades Night
DESCRIPTION:Ticketed – Palisades Night is dedicated to supporting LA Strong Sports in rebuilding the Pacific Palisades Park and Recreation Center\, with 100% of proceeds going directly to the cause. This one is about showing up for our home and the people who make it what it is. Sounds by Pali native DJ Graham Funke will carry us from golden hour into the night.
URL:https://laguestlist.com/event/the-bungalow-palisades-night/
LOCATION:The Bungalow\, 101 Wilshire Blvd\, Santa Monica\, CA\, 90401\, United States
CATEGORIES:Charity,Things to do
ATTACH;FMTTYPE=image/png:https://laguestlist.com/wp-content/uploads/2026/04/The-Bungalow-Palisades-Night.png
END:VEVENT
END:VCALENDAR