BEGIN:VCALENDAR
VERSION:2.0
PRODID:-//LA Guestlist - ECPv6.15.20//NONSGML v1.0//EN
CALSCALE:GREGORIAN
METHOD:PUBLISH
X-ORIGINAL-URL:https://laguestlist.com
X-WR-CALDESC:Events for LA Guestlist
REFRESH-INTERVAL;VALUE=DURATION:PT1H
X-Robots-Tag:noindex
X-PUBLISHED-TTL:PT1H
BEGIN:VTIMEZONE
TZID:America/Los_Angeles
BEGIN:DAYLIGHT
TZOFFSETFROM:-0800
TZOFFSETTO:-0700
TZNAME:PDT
DTSTART:20240310T100000
END:DAYLIGHT
BEGIN:STANDARD
TZOFFSETFROM:-0700
TZOFFSETTO:-0800
TZNAME:PST
DTSTART:20241103T090000
END:STANDARD
BEGIN:DAYLIGHT
TZOFFSETFROM:-0800
TZOFFSETTO:-0700
TZNAME:PDT
DTSTART:20250309T100000
END:DAYLIGHT
BEGIN:STANDARD
TZOFFSETFROM:-0700
TZOFFSETTO:-0800
TZNAME:PST
DTSTART:20251102T090000
END:STANDARD
BEGIN:DAYLIGHT
TZOFFSETFROM:-0800
TZOFFSETTO:-0700
TZNAME:PDT
DTSTART:20260308T100000
END:DAYLIGHT
BEGIN:STANDARD
TZOFFSETFROM:-0700
TZOFFSETTO:-0800
TZNAME:PST
DTSTART:20261101T090000
END:STANDARD
END:VTIMEZONE
BEGIN:VEVENT
DTSTART;TZID=America/Los_Angeles:20250316T120000
DTEND;TZID=America/Los_Angeles:20250316T220000
DTSTAMP:20260422T192804
CREATED:20250311T041158Z
LAST-MODIFIED:20250311T041158Z
UID:50974-1742126400-1742162400@laguestlist.com
SUMMARY:Live From Los Angeles with Diplo
DESCRIPTION:Register – A globally broadcast fundraiser with 100% of net proceeds going to MusiCares to help musicians affected by the LA wildfires with performances by Diplo\, Aluna and many more at Dreamland Malibu.
URL:https://laguestlist.com/event/live-from-los-angeles-with-diplo/
LOCATION:Aviator Nation Dreamland\, 22969 PCH\, Malibu\, CA\, 90265\, United States
CATEGORIES:Charity,Music
ATTACH;FMTTYPE=image/jpeg:https://laguestlist.com/wp-content/uploads/2025/03/1-1.jpg
END:VEVENT
END:VCALENDAR