BEGIN:VCALENDAR
VERSION:2.0
PRODID:-//LA Guestlist - ECPv6.15.20//NONSGML v1.0//EN
CALSCALE:GREGORIAN
METHOD:PUBLISH
X-WR-CALNAME:LA Guestlist
X-ORIGINAL-URL:https://laguestlist.com
X-WR-CALDESC:Events for LA Guestlist
REFRESH-INTERVAL;VALUE=DURATION:PT1H
X-Robots-Tag:noindex
X-PUBLISHED-TTL:PT1H
BEGIN:VTIMEZONE
TZID:America/Los_Angeles
BEGIN:DAYLIGHT
TZOFFSETFROM:-0800
TZOFFSETTO:-0700
TZNAME:PDT
DTSTART:20250309T100000
END:DAYLIGHT
BEGIN:STANDARD
TZOFFSETFROM:-0700
TZOFFSETTO:-0800
TZNAME:PST
DTSTART:20251102T090000
END:STANDARD
BEGIN:DAYLIGHT
TZOFFSETFROM:-0800
TZOFFSETTO:-0700
TZNAME:PDT
DTSTART:20260308T100000
END:DAYLIGHT
BEGIN:STANDARD
TZOFFSETFROM:-0700
TZOFFSETTO:-0800
TZNAME:PST
DTSTART:20261101T090000
END:STANDARD
BEGIN:DAYLIGHT
TZOFFSETFROM:-0800
TZOFFSETTO:-0700
TZNAME:PDT
DTSTART:20270314T100000
END:DAYLIGHT
BEGIN:STANDARD
TZOFFSETFROM:-0700
TZOFFSETTO:-0800
TZNAME:PST
DTSTART:20271107T090000
END:STANDARD
END:VTIMEZONE
BEGIN:VEVENT
DTSTART;TZID=America/Los_Angeles:20260328T110000
DTEND;TZID=America/Los_Angeles:20260329T180000
DTSTAMP:20260423T011703
CREATED:20260328T142617Z
LAST-MODIFIED:20260328T142617Z
UID:52115-1774695600-1774807200@laguestlist.com
SUMMARY:Prada Touch Tour Los Angeles
DESCRIPTION:RSVP – Prada Beauty invites guests to explore the new Prada Touch Blush at an immersive pop-up for a limited time in Venice Beach. Prada Touch brings a playful twist to blush\, coming in a pocket-sized stackable pack that echoes the iconic Prada triangle. Prada Touch Blush features an innovative cream-to-powder formula that melts into skin and transforms from a creamy balm to a blurred\, soft-matte finish for up to 12 hours of long wear. Sculpt and lift the look of cheekbones with 8 vibrant yet buildable blush shades.
URL:https://laguestlist.com/event/prada-touch-tour-los-angeles/
LOCATION:The Brig\, 1515 Abbot Kinney Blvd\, Venice\, CA\, United States
CATEGORIES:Beauty
ATTACH;FMTTYPE=image/png:https://laguestlist.com/wp-content/uploads/2026/03/Prada-Touch-Up-Tour.png
END:VEVENT
BEGIN:VEVENT
DTSTART;TZID=America/Los_Angeles:20260430T183000
DTEND;TZID=America/Los_Angeles:20260430T210000
DTSTAMP:20260423T011703
CREATED:20260422T140517Z
LAST-MODIFIED:20260422T140517Z
UID:52346-1777573800-1777582800@laguestlist.com
SUMMARY:Glow Recipe’s Cushion World VIP Preview
DESCRIPTION:Invite Only – Glow Recipe co-founder Christine Chang will invite VIp Guests to Glow Recipe’s Cushion World VIP Preview to celebrate the launch of their new Watermelon Milk Peptide Glow Cushion Cream! Guests will receive exclusive limited edition Glow Recipe products and get a sneak peek at what’s to come with a first look at the activation before the pop-up is available to the public.
URL:https://laguestlist.com/event/glow-recipes-cushion-world-vip-preview/
LOCATION:CA
CATEGORIES:Beauty
ATTACH;FMTTYPE=image/png:https://laguestlist.com/wp-content/uploads/2026/04/glow.png
END:VEVENT
END:VCALENDAR