BEGIN:VCALENDAR
VERSION:2.0
PRODID:-//LA Guestlist - ECPv6.15.20//NONSGML v1.0//EN
CALSCALE:GREGORIAN
METHOD:PUBLISH
X-ORIGINAL-URL:https://laguestlist.com
X-WR-CALDESC:Events for LA Guestlist
REFRESH-INTERVAL;VALUE=DURATION:PT1H
X-Robots-Tag:noindex
X-PUBLISHED-TTL:PT1H
BEGIN:VTIMEZONE
TZID:America/Los_Angeles
BEGIN:DAYLIGHT
TZOFFSETFROM:-0800
TZOFFSETTO:-0700
TZNAME:PDT
DTSTART:20250309T100000
END:DAYLIGHT
BEGIN:STANDARD
TZOFFSETFROM:-0700
TZOFFSETTO:-0800
TZNAME:PST
DTSTART:20251102T090000
END:STANDARD
BEGIN:DAYLIGHT
TZOFFSETFROM:-0800
TZOFFSETTO:-0700
TZNAME:PDT
DTSTART:20260308T100000
END:DAYLIGHT
BEGIN:STANDARD
TZOFFSETFROM:-0700
TZOFFSETTO:-0800
TZNAME:PST
DTSTART:20261101T090000
END:STANDARD
BEGIN:DAYLIGHT
TZOFFSETFROM:-0800
TZOFFSETTO:-0700
TZNAME:PDT
DTSTART:20270314T100000
END:DAYLIGHT
BEGIN:STANDARD
TZOFFSETFROM:-0700
TZOFFSETTO:-0800
TZNAME:PST
DTSTART:20271107T090000
END:STANDARD
END:VTIMEZONE
BEGIN:VEVENT
DTSTART;TZID=America/Los_Angeles:20260224T213000
DTEND;TZID=America/Los_Angeles:20260227T020000
DTSTAMP:20260421T182722
CREATED:20260218T193600Z
LAST-MODIFIED:20260218T193600Z
UID:51923-1771968600-1772157600@laguestlist.com
SUMMARY:Silencio Residency at The West Hollywood EDITION
DESCRIPTION:Invite Only – Silencio\, Paris’ subterranean private club and cultural venue in Paris designed by the late filmmaker David Lynch\, will make its Los Angeles debut this February. Taking over Sunset at EDITION\, the subterranean nightclub at The West Hollywood EDITION\, Silencio will present a three-night residency during Frieze LA 2026\, featuring diverse partners across art\, media\, and entertainment including the likes of LACMA-Avant Garde\, Tom of Finland Foundation\, How Long Gone\, DJ Harvey and VTSS.
URL:https://laguestlist.com/event/silencio-residency-at-the-west-hollywood-edition/
LOCATION:Sunset at EDITION\, 1090 North Doheny Drive\, West Hollywood\, CA\, 90069\, United States
CATEGORIES:Art,Nightlife
ATTACH;FMTTYPE=image/png:https://laguestlist.com/wp-content/uploads/2026/02/Silencio-Residency-at-The-West-Hollywood-EDITION.png
END:VEVENT
BEGIN:VEVENT
DTSTART;TZID=America/Los_Angeles:20260225T170000
DTEND;TZID=America/Los_Angeles:20260301T170000
DTSTAMP:20260421T182722
CREATED:20260218T194155Z
LAST-MODIFIED:20260218T194155Z
UID:51925-1772038800-1772384400@laguestlist.com
SUMMARY:Felix Art Fair 2026
DESCRIPTION:Ticketed – Felix Art Fair 2026 is back for their 8th edition Wednesday February 25 – March 1\, 2026. Discover artists from all around the world presented by galleries from Tokyo\, Chicago\, Buenos Aires\, Milan\, Seoul\, Miami\, London\, Dallas\, New York\, and Los Angeles. This year’s edition features over 20 first-time exhibitors where guests will enjoy exceptional pop-up food and beverage offerings.
URL:https://laguestlist.com/event/felix-art-fair-2026/
LOCATION:Hollywood Roosevelt\, 7000 Hollywood Boulevard\, Los Angeles\, CA\, 90028\, United States
CATEGORIES:Art
ATTACH;FMTTYPE=image/png:https://laguestlist.com/wp-content/uploads/2026/02/Felix-Art-Fair-2026.png
END:VEVENT
BEGIN:VEVENT
DTSTART;TZID=America/Los_Angeles:20260226T130000
DTEND;TZID=America/Los_Angeles:20260301T180000
DTSTAMP:20260421T182722
CREATED:20260212T231524Z
LAST-MODIFIED:20260212T231524Z
UID:51876-1772110800-1772388000@laguestlist.com
SUMMARY:Frieze Los Angeles 2026
DESCRIPTION:Ticketed – Frieze Los Angeles returns to Santa Monica Airport 26 February – 1 March 2026. Discover the best contemporary art from the world’s leading galleries and artists\, plus ambitious installations\, nonprofit collaborations\, and pop-ups from LA’s favorite restaurants.
URL:https://laguestlist.com/event/frieze-los-angeles-2026/
LOCATION:Santa Monica Airport\, 3223 Donald Douglas Loop S\, Santa Monica\, CA\, 90405\, United States
CATEGORIES:Art
ATTACH;FMTTYPE=image/jpeg:https://laguestlist.com/wp-content/uploads/2026/02/Frieze-Los-Angeles-logo_dezeen_2364_col_1.jpg
END:VEVENT
BEGIN:VEVENT
DTSTART;TZID=America/Los_Angeles:20260312T180000
DTEND;TZID=America/Los_Angeles:20260312T210000
DTSTAMP:20260421T182722
CREATED:20260218T193017Z
LAST-MODIFIED:20260218T193017Z
UID:51921-1773338400-1773349200@laguestlist.com
SUMMARY:Gagosian Presents Jonas Wood Opening
DESCRIPTION:Open – Gagosian is pleased to announce an exhibition of new tennis court paintings by Jonas Wood. The gallery’s tenth exhibition of Wood’s work\, and its first based in Los Angeles\, will open on March 12\, prior to the 98th Academy Awards ceremony. Produced in 2025 and 2026\, each painting represents\, in a distinct abstracted style\, a match held at a prominent Association of Tennis Professionals (ATP)\, Women’s Tennis Association (WTA)\, or Olympic tournament.
URL:https://laguestlist.com/event/gagosian-presents-jonas-wood-opening/
LOCATION:Gagosian Gallery\, 456 N Camden Dr\, Beverly Hills\, CA\, 90210\, United States
CATEGORIES:Art
ATTACH;FMTTYPE=image/png:https://laguestlist.com/wp-content/uploads/2026/02/Gagosian-Presents-Jonas-Wood-Opening.png
END:VEVENT
BEGIN:VEVENT
DTSTART;TZID=America/Los_Angeles:20260419T180000
DTEND;TZID=America/Los_Angeles:20260419T210000
DTSTAMP:20260421T182722
CREATED:20260410T144528Z
LAST-MODIFIED:20260410T144528Z
UID:52175-1776621600-1776632400@laguestlist.com
SUMMARY:LACMA’s David Geffen Galleries Opening
DESCRIPTION:RSVP – The Los Angeles County Museum of Art’s David Geffen Galleries will open on April 19 with a ribbon-cutting celebration\, marking the beginning of two weeks of priority member access to the galleries as well as a series of events. From April 19 through May 3\, LACMA members and donors will have the opportunity to see the inaugural installation of the museum’s collection.
URL:https://laguestlist.com/event/lacmas-david-geffen-galleries-opening/
LOCATION:LACMA\, 5905 Wilshire Blvd\, Los Angeles\, CA\, 90036\, United States
CATEGORIES:Art
ATTACH;FMTTYPE=image/png:https://laguestlist.com/wp-content/uploads/2026/04/David-Geffen-Gallery.png
END:VEVENT
END:VCALENDAR